0.20000000
0.00000000
0.00000000
-0.20000000
700000.10000000
6973999.90000000
