0.20000000
0.00000000
0.00000000
-0.20000000
707000.10000000
6987999.90000000
